BEGIN:VCALENDAR
VERSION:2.0
PRODID:-//Wilde Hummeln - ECPv6.15.20//NONSGML v1.0//EN
CALSCALE:GREGORIAN
METHOD:PUBLISH
X-ORIGINAL-URL:https://inline-bargteheide.de
X-WR-CALDESC:Veranstaltungen für Wilde Hummeln
REFRESH-INTERVAL;VALUE=DURATION:PT1H
X-Robots-Tag:noindex
X-PUBLISHED-TTL:PT1H
BEGIN:VTIMEZONE
TZID:Europe/Berlin
BEGIN:DAYLIGHT
TZOFFSETFROM:+0100
TZOFFSETTO:+0200
TZNAME:CEST
DTSTART:20240331T010000
END:DAYLIGHT
BEGIN:STANDARD
TZOFFSETFROM:+0200
TZOFFSETTO:+0100
TZNAME:CET
DTSTART:20241027T010000
END:STANDARD
BEGIN:DAYLIGHT
TZOFFSETFROM:+0100
TZOFFSETTO:+0200
TZNAME:CEST
DTSTART:20250330T010000
END:DAYLIGHT
BEGIN:STANDARD
TZOFFSETFROM:+0200
TZOFFSETTO:+0100
TZNAME:CET
DTSTART:20251026T010000
END:STANDARD
BEGIN:DAYLIGHT
TZOFFSETFROM:+0100
TZOFFSETTO:+0200
TZNAME:CEST
DTSTART:20260329T010000
END:DAYLIGHT
BEGIN:STANDARD
TZOFFSETFROM:+0200
TZOFFSETTO:+0100
TZNAME:CET
DTSTART:20261025T010000
END:STANDARD
END:VTIMEZONE
BEGIN:VEVENT
DTSTART;TZID=Europe/Berlin:20251003T000000
DTEND;TZID=Europe/Berlin:20251003T235959
DTSTAMP:20260420T080232
CREATED:20250803T125720Z
LAST-MODIFIED:20250803T130138Z
UID:2726-1759449600-1759535999@inline-bargteheide.de
SUMMARY:Kein Training!
DESCRIPTION:
URL:https://inline-bargteheide.de/kalender/speedies-u-race-team-45-copy/
LOCATION:DBS-Halle\, Am Schulzentrum\, Bargteheide\, 22941\, Deutschland
CATEGORIES:Training
ORGANIZER;CN="TSV Bargteheide/Abt. Inline":MAILTO:kontakt@inline-bargteheide.de
END:VEVENT
BEGIN:VEVENT
DTSTART;TZID=Europe/Berlin:20251004T000000
DTEND;TZID=Europe/Berlin:20251004T235959
DTSTAMP:20260420T080232
CREATED:20250803T125935Z
LAST-MODIFIED:20250803T130050Z
UID:2728-1759536000-1759622399@inline-bargteheide.de
SUMMARY:Kein Training!
DESCRIPTION:
URL:https://inline-bargteheide.de/kalender/speedies-u-race-team-45-copy-copy/
LOCATION:DBS-Halle\, Am Schulzentrum\, Bargteheide\, 22941\, Deutschland
CATEGORIES:Training
ORGANIZER;CN="TSV Bargteheide/Abt. Inline":MAILTO:kontakt@inline-bargteheide.de
END:VEVENT
BEGIN:VEVENT
DTSTART;TZID=Europe/Berlin:20251010T191500
DTEND;TZID=Europe/Berlin:20251010T201500
DTSTAMP:20260420T080232
CREATED:20250803T135621Z
LAST-MODIFIED:20250803T135820Z
UID:2766-1760123700-1760127300@inline-bargteheide.de
SUMMARY:Spiel u. Spaß
DESCRIPTION:
URL:https://inline-bargteheide.de/kalender/spiel-u-spass-47-copy-copy-copy-copy/
LOCATION:DBS-Halle\, Am Schulzentrum\, Bargteheide\, 22941\, Deutschland
CATEGORIES:Training
ORGANIZER;CN="TSV Bargteheide/Abt. Inline":MAILTO:kontakt@inline-bargteheide.de
END:VEVENT
BEGIN:VEVENT
DTSTART;TZID=Europe/Berlin:20251010T201500
DTEND;TZID=Europe/Berlin:20251010T220000
DTSTAMP:20260420T080232
CREATED:20250803T142619Z
LAST-MODIFIED:20250803T142810Z
UID:2790-1760127300-1760133600@inline-bargteheide.de
SUMMARY:Speedies u. Race-Team
DESCRIPTION:
URL:https://inline-bargteheide.de/kalender/speedies-u-race-team-45-copy-2-copy-copy-2/
LOCATION:DBS-Halle\, Am Schulzentrum\, Bargteheide\, 22941\, Deutschland
CATEGORIES:Training
ORGANIZER;CN="TSV Bargteheide/Abt. Inline":MAILTO:kontakt@inline-bargteheide.de
END:VEVENT
BEGIN:VEVENT
DTSTART;TZID=Europe/Berlin:20251011T090000
DTEND;TZID=Europe/Berlin:20251011T100000
DTSTAMP:20260420T080232
CREATED:20250803T133625Z
LAST-MODIFIED:20250803T133900Z
UID:2744-1760173200-1760176800@inline-bargteheide.de
SUMMARY:Anfängerkurs
DESCRIPTION:
URL:https://inline-bargteheide.de/kalender/anfaengerkurs-42-copy-copy-copy-copy/
LOCATION:DBS-Halle\, Am Schulzentrum\, Bargteheide\, 22941\, Deutschland
CATEGORIES:Training
ORGANIZER;CN="TSV Bargteheide/Abt. Inline":MAILTO:kontakt@inline-bargteheide.de
END:VEVENT
BEGIN:VEVENT
DTSTART;TZID=Europe/Berlin:20251017T191500
DTEND;TZID=Europe/Berlin:20251017T201500
DTSTAMP:20260420T080232
CREATED:20250803T135944Z
LAST-MODIFIED:20250803T140057Z
UID:2768-1760728500-1760732100@inline-bargteheide.de
SUMMARY:Spiel u. Spaß
DESCRIPTION:
URL:https://inline-bargteheide.de/kalender/spiel-u-spass-47-copy-copy-copy-copy-copy/
LOCATION:DBS-Halle\, Am Schulzentrum\, Bargteheide\, 22941\, Deutschland
CATEGORIES:Training
ORGANIZER;CN="TSV Bargteheide/Abt. Inline":MAILTO:kontakt@inline-bargteheide.de
END:VEVENT
BEGIN:VEVENT
DTSTART;TZID=Europe/Berlin:20251017T201500
DTEND;TZID=Europe/Berlin:20251017T220000
DTSTAMP:20260420T080232
CREATED:20250803T142933Z
LAST-MODIFIED:20250803T143026Z
UID:2792-1760732100-1760738400@inline-bargteheide.de
SUMMARY:Speedies u. Race-Team
DESCRIPTION:
URL:https://inline-bargteheide.de/kalender/speedies-u-race-team-45-copy-2-copy-copy-2-copy/
LOCATION:DBS-Halle\, Am Schulzentrum\, Bargteheide\, 22941\, Deutschland
CATEGORIES:Training
ORGANIZER;CN="TSV Bargteheide/Abt. Inline":MAILTO:kontakt@inline-bargteheide.de
END:VEVENT
BEGIN:VEVENT
DTSTART;TZID=Europe/Berlin:20251018T090000
DTEND;TZID=Europe/Berlin:20251018T100000
DTSTAMP:20260420T080232
CREATED:20250803T133924Z
LAST-MODIFIED:20250803T134005Z
UID:2746-1760778000-1760781600@inline-bargteheide.de
SUMMARY:Anfängerkurs
DESCRIPTION:
URL:https://inline-bargteheide.de/kalender/anfaengerkurs-42-copy-copy-copy-copy-copy/
LOCATION:DBS-Halle\, Am Schulzentrum\, Bargteheide\, 22941\, Deutschland
CATEGORIES:Training
ORGANIZER;CN="TSV Bargteheide/Abt. Inline":MAILTO:kontakt@inline-bargteheide.de
END:VEVENT
BEGIN:VEVENT
DTSTART;TZID=Europe/Berlin:20251020T000000
DTEND;TZID=Europe/Berlin:20251030T235959
DTSTAMP:20260420T080232
CREATED:20241227T152001Z
LAST-MODIFIED:20241227T152003Z
UID:2398-1760918400-1761868799@inline-bargteheide.de
SUMMARY:Herbstferien
DESCRIPTION:Frohe Weihnachten!
URL:https://inline-bargteheide.de/kalender/herbstferien/
CATEGORIES:Ferien
END:VEVENT
BEGIN:VEVENT
DTSTART;TZID=Europe/Berlin:20251031T191500
DTEND;TZID=Europe/Berlin:20251031T201500
DTSTAMP:20260420T080232
CREATED:20250803T140143Z
LAST-MODIFIED:20250803T140704Z
UID:2770-1761938100-1761941700@inline-bargteheide.de
SUMMARY:Spiel u. Spaß
DESCRIPTION:
URL:https://inline-bargteheide.de/kalender/spiel-u-spass-47-copy-copy-copy-copy-copy-copy/
LOCATION:DBS-Halle\, Am Schulzentrum\, Bargteheide\, 22941\, Deutschland
CATEGORIES:Training
ORGANIZER;CN="TSV Bargteheide/Abt. Inline":MAILTO:kontakt@inline-bargteheide.de
END:VEVENT
BEGIN:VEVENT
DTSTART;TZID=Europe/Berlin:20251031T201500
DTEND;TZID=Europe/Berlin:20251031T220000
DTSTAMP:20260420T080232
CREATED:20250803T143106Z
LAST-MODIFIED:20250803T143147Z
UID:2794-1761941700-1761948000@inline-bargteheide.de
SUMMARY:Speedies u. Race-Team
DESCRIPTION:
URL:https://inline-bargteheide.de/kalender/speedies-u-race-team-45-copy-2-copy-copy-2-copy-copy/
LOCATION:DBS-Halle\, Am Schulzentrum\, Bargteheide\, 22941\, Deutschland
CATEGORIES:Training
ORGANIZER;CN="TSV Bargteheide/Abt. Inline":MAILTO:kontakt@inline-bargteheide.de
END:VEVENT
END:VCALENDAR