BEGIN:VCALENDAR
VERSION:2.0
PRODID:-//Wilde Hummeln - ECPv6.15.20//NONSGML v1.0//EN
CALSCALE:GREGORIAN
METHOD:PUBLISH
X-ORIGINAL-URL:https://inline-bargteheide.de
X-WR-CALDESC:Veranstaltungen für Wilde Hummeln
REFRESH-INTERVAL;VALUE=DURATION:PT1H
X-Robots-Tag:noindex
X-PUBLISHED-TTL:PT1H
BEGIN:VTIMEZONE
TZID:Europe/Berlin
BEGIN:DAYLIGHT
TZOFFSETFROM:+0100
TZOFFSETTO:+0200
TZNAME:CEST
DTSTART:20240331T010000
END:DAYLIGHT
BEGIN:STANDARD
TZOFFSETFROM:+0200
TZOFFSETTO:+0100
TZNAME:CET
DTSTART:20241027T010000
END:STANDARD
BEGIN:DAYLIGHT
TZOFFSETFROM:+0100
TZOFFSETTO:+0200
TZNAME:CEST
DTSTART:20250330T010000
END:DAYLIGHT
BEGIN:STANDARD
TZOFFSETFROM:+0200
TZOFFSETTO:+0100
TZNAME:CET
DTSTART:20251026T010000
END:STANDARD
BEGIN:DAYLIGHT
TZOFFSETFROM:+0100
TZOFFSETTO:+0200
TZNAME:CEST
DTSTART:20260329T010000
END:DAYLIGHT
BEGIN:STANDARD
TZOFFSETFROM:+0200
TZOFFSETTO:+0100
TZNAME:CET
DTSTART:20261025T010000
END:STANDARD
END:VTIMEZONE
BEGIN:VEVENT
DTSTART;TZID=Europe/Berlin:20250704T191500
DTEND;TZID=Europe/Berlin:20250704T201500
DTSTAMP:20260423T023209
CREATED:20250329T153246Z
LAST-MODIFIED:20250329T153248Z
UID:2578-1751656500-1751660100@inline-bargteheide.de
SUMMARY:Spiel u. Spaß
DESCRIPTION:
URL:https://inline-bargteheide.de/kalender/spiel-u-spass-44/
LOCATION:DBS-Halle\, Am Schulzentrum\, Bargteheide\, 22941\, Deutschland
CATEGORIES:Training
ORGANIZER;CN="TSV Bargteheide/Abt. Inline":MAILTO:kontakt@inline-bargteheide.de
END:VEVENT
BEGIN:VEVENT
DTSTART;TZID=Europe/Berlin:20250704T201500
DTEND;TZID=Europe/Berlin:20250704T220000
DTSTAMP:20260423T023209
CREATED:20250329T153157Z
LAST-MODIFIED:20250329T153158Z
UID:2576-1751660100-1751666400@inline-bargteheide.de
SUMMARY:Speedies u. Race-Team
DESCRIPTION:
URL:https://inline-bargteheide.de/kalender/speedies-u-race-team-42/
LOCATION:DBS-Halle\, Am Schulzentrum\, Bargteheide\, 22941\, Deutschland
CATEGORIES:Training
ORGANIZER;CN="TSV Bargteheide/Abt. Inline":MAILTO:kontakt@inline-bargteheide.de
END:VEVENT
BEGIN:VEVENT
DTSTART;TZID=Europe/Berlin:20250705T090000
DTEND;TZID=Europe/Berlin:20250705T100000
DTSTAMP:20260423T023209
CREATED:20250329T153018Z
LAST-MODIFIED:20250329T153020Z
UID:2572-1751706000-1751709600@inline-bargteheide.de
SUMMARY:Anfängerkurs
DESCRIPTION:
URL:https://inline-bargteheide.de/kalender/anfaengerkurs-40/
LOCATION:DBS-Halle\, Am Schulzentrum\, Bargteheide\, 22941\, Deutschland
CATEGORIES:Training
ORGANIZER;CN="TSV Bargteheide/Abt. Inline":MAILTO:kontakt@inline-bargteheide.de
END:VEVENT
BEGIN:VEVENT
DTSTART;TZID=Europe/Berlin:20250711T191500
DTEND;TZID=Europe/Berlin:20250711T201500
DTSTAMP:20260423T023209
CREATED:20250329T153501Z
LAST-MODIFIED:20250329T153504Z
UID:2582-1752261300-1752264900@inline-bargteheide.de
SUMMARY:Spiel u. Spaß
DESCRIPTION:
URL:https://inline-bargteheide.de/kalender/spiel-u-spass-45/
LOCATION:DBS-Halle\, Am Schulzentrum\, Bargteheide\, 22941\, Deutschland
CATEGORIES:Training
ORGANIZER;CN="TSV Bargteheide/Abt. Inline":MAILTO:kontakt@inline-bargteheide.de
END:VEVENT
BEGIN:VEVENT
DTSTART;TZID=Europe/Berlin:20250711T201500
DTEND;TZID=Europe/Berlin:20250711T220000
DTSTAMP:20260423T023209
CREATED:20250329T153401Z
LAST-MODIFIED:20250329T153403Z
UID:2580-1752264900-1752271200@inline-bargteheide.de
SUMMARY:Speedies u. Race-Team
DESCRIPTION:
URL:https://inline-bargteheide.de/kalender/speedies-u-race-team-43/
LOCATION:DBS-Halle\, Am Schulzentrum\, Bargteheide\, 22941\, Deutschland
CATEGORIES:Training
ORGANIZER;CN="TSV Bargteheide/Abt. Inline":MAILTO:kontakt@inline-bargteheide.de
END:VEVENT
BEGIN:VEVENT
DTSTART;TZID=Europe/Berlin:20250712T090000
DTEND;TZID=Europe/Berlin:20250712T100000
DTSTAMP:20260423T023209
CREATED:20250329T153107Z
LAST-MODIFIED:20250329T153109Z
UID:2574-1752310800-1752314400@inline-bargteheide.de
SUMMARY:Anfängerkurs
DESCRIPTION:
URL:https://inline-bargteheide.de/kalender/anfaengerkurs-41/
LOCATION:DBS-Halle\, Am Schulzentrum\, Bargteheide\, 22941\, Deutschland
CATEGORIES:Training
ORGANIZER;CN="TSV Bargteheide/Abt. Inline":MAILTO:kontakt@inline-bargteheide.de
END:VEVENT
BEGIN:VEVENT
DTSTART;TZID=Europe/Berlin:20250718T191500
DTEND;TZID=Europe/Berlin:20250718T201500
DTSTAMP:20260423T023209
CREATED:20250329T153756Z
LAST-MODIFIED:20250329T153758Z
UID:2588-1752866100-1752869700@inline-bargteheide.de
SUMMARY:Spiel u. Spaß
DESCRIPTION:
URL:https://inline-bargteheide.de/kalender/spiel-u-spass-46/
LOCATION:DBS-Halle\, Am Schulzentrum\, Bargteheide\, 22941\, Deutschland
CATEGORIES:Training
ORGANIZER;CN="TSV Bargteheide/Abt. Inline":MAILTO:kontakt@inline-bargteheide.de
END:VEVENT
BEGIN:VEVENT
DTSTART;TZID=Europe/Berlin:20250718T201500
DTEND;TZID=Europe/Berlin:20250718T220000
DTSTAMP:20260423T023209
CREATED:20250329T153656Z
LAST-MODIFIED:20250329T153658Z
UID:2586-1752869700-1752876000@inline-bargteheide.de
SUMMARY:Speedies u. Race-Team
DESCRIPTION:
URL:https://inline-bargteheide.de/kalender/speedies-u-race-team-44/
LOCATION:DBS-Halle\, Am Schulzentrum\, Bargteheide\, 22941\, Deutschland
CATEGORIES:Training
ORGANIZER;CN="TSV Bargteheide/Abt. Inline":MAILTO:kontakt@inline-bargteheide.de
END:VEVENT
BEGIN:VEVENT
DTSTART;TZID=Europe/Berlin:20250719T090000
DTEND;TZID=Europe/Berlin:20250719T100000
DTSTAMP:20260423T023209
CREATED:20250329T153608Z
LAST-MODIFIED:20250329T153609Z
UID:2584-1752915600-1752919200@inline-bargteheide.de
SUMMARY:Anfängerkurs
DESCRIPTION:
URL:https://inline-bargteheide.de/kalender/anfaengerkurs-42/
LOCATION:DBS-Halle\, Am Schulzentrum\, Bargteheide\, 22941\, Deutschland
CATEGORIES:Training
ORGANIZER;CN="TSV Bargteheide/Abt. Inline":MAILTO:kontakt@inline-bargteheide.de
END:VEVENT
BEGIN:VEVENT
DTSTART;TZID=Europe/Berlin:20250725T191500
DTEND;TZID=Europe/Berlin:20250725T201500
DTSTAMP:20260423T023209
CREATED:20250329T154041Z
LAST-MODIFIED:20250329T154043Z
UID:2594-1753470900-1753474500@inline-bargteheide.de
SUMMARY:Spiel u. Spaß
DESCRIPTION:
URL:https://inline-bargteheide.de/kalender/spiel-u-spass-47/
LOCATION:DBS-Halle\, Am Schulzentrum\, Bargteheide\, 22941\, Deutschland
CATEGORIES:Training
ORGANIZER;CN="TSV Bargteheide/Abt. Inline":MAILTO:kontakt@inline-bargteheide.de
END:VEVENT
BEGIN:VEVENT
DTSTART;TZID=Europe/Berlin:20250725T201500
DTEND;TZID=Europe/Berlin:20250725T220000
DTSTAMP:20260423T023209
CREATED:20250329T153937Z
LAST-MODIFIED:20250329T153939Z
UID:2592-1753474500-1753480800@inline-bargteheide.de
SUMMARY:Speedies u. Race-Team
DESCRIPTION:
URL:https://inline-bargteheide.de/kalender/speedies-u-race-team-45/
LOCATION:DBS-Halle\, Am Schulzentrum\, Bargteheide\, 22941\, Deutschland
CATEGORIES:Training
ORGANIZER;CN="TSV Bargteheide/Abt. Inline":MAILTO:kontakt@inline-bargteheide.de
END:VEVENT
BEGIN:VEVENT
DTSTART;TZID=Europe/Berlin:20250728T000000
DTEND;TZID=Europe/Berlin:20250905T235959
DTSTAMP:20260423T023209
CREATED:20241227T151848Z
LAST-MODIFIED:20241227T151849Z
UID:2396-1753660800-1757116799@inline-bargteheide.de
SUMMARY:Sommerferien
DESCRIPTION:Frohe Weihnachten!
URL:https://inline-bargteheide.de/kalender/sommerferien-2/
CATEGORIES:Ferien
END:VEVENT
END:VCALENDAR