BEGIN:VCALENDAR
VERSION:2.0
PRODID:-//Wilde Hummeln - ECPv6.15.20//NONSGML v1.0//EN
CALSCALE:GREGORIAN
METHOD:PUBLISH
X-WR-CALNAME:Wilde Hummeln
X-ORIGINAL-URL:https://inline-bargteheide.de
X-WR-CALDESC:Veranstaltungen für Wilde Hummeln
REFRESH-INTERVAL;VALUE=DURATION:PT1H
X-Robots-Tag:noindex
X-PUBLISHED-TTL:PT1H
BEGIN:VTIMEZONE
TZID:Europe/Berlin
BEGIN:DAYLIGHT
TZOFFSETFROM:+0100
TZOFFSETTO:+0200
TZNAME:CEST
DTSTART:20240331T010000
END:DAYLIGHT
BEGIN:STANDARD
TZOFFSETFROM:+0200
TZOFFSETTO:+0100
TZNAME:CET
DTSTART:20241027T010000
END:STANDARD
BEGIN:DAYLIGHT
TZOFFSETFROM:+0100
TZOFFSETTO:+0200
TZNAME:CEST
DTSTART:20250330T010000
END:DAYLIGHT
BEGIN:STANDARD
TZOFFSETFROM:+0200
TZOFFSETTO:+0100
TZNAME:CET
DTSTART:20251026T010000
END:STANDARD
BEGIN:DAYLIGHT
TZOFFSETFROM:+0100
TZOFFSETTO:+0200
TZNAME:CEST
DTSTART:20260329T010000
END:DAYLIGHT
BEGIN:STANDARD
TZOFFSETFROM:+0200
TZOFFSETTO:+0100
TZNAME:CET
DTSTART:20261025T010000
END:STANDARD
END:VTIMEZONE
BEGIN:VEVENT
DTSTART;TZID=Europe/Berlin:20250502T191500
DTEND;TZID=Europe/Berlin:20250502T201500
DTSTAMP:20260423T022009
CREATED:20250329T145811Z
LAST-MODIFIED:20250329T145812Z
UID:2518-1746213300-1746216900@inline-bargteheide.de
SUMMARY:Spiel u. Spaß
DESCRIPTION:
URL:https://inline-bargteheide.de/kalender/spiel-u-spass-8/
LOCATION:DBS-Halle\, Am Schulzentrum\, Bargteheide\, 22941\, Deutschland
CATEGORIES:Training
ORGANIZER;CN="TSV Bargteheide/Abt. Inline":MAILTO:kontakt@inline-bargteheide.de
END:VEVENT
BEGIN:VEVENT
DTSTART;TZID=Europe/Berlin:20250502T201500
DTEND;TZID=Europe/Berlin:20250502T220000
DTSTAMP:20260423T022009
CREATED:20250329T150219Z
LAST-MODIFIED:20250329T150221Z
UID:2520-1746216900-1746223200@inline-bargteheide.de
SUMMARY:Speedies u. Race-Team
DESCRIPTION:
URL:https://inline-bargteheide.de/kalender/speedies-u-race-team-9/
LOCATION:DBS-Halle\, Am Schulzentrum\, Bargteheide\, 22941\, Deutschland
CATEGORIES:Training
ORGANIZER;CN="TSV Bargteheide/Abt. Inline":MAILTO:kontakt@inline-bargteheide.de
END:VEVENT
BEGIN:VEVENT
DTSTART;TZID=Europe/Berlin:20250503T090000
DTEND;TZID=Europe/Berlin:20250503T100000
DTSTAMP:20260423T022009
CREATED:20250329T145311Z
LAST-MODIFIED:20250329T145313Z
UID:2516-1746262800-1746266400@inline-bargteheide.de
SUMMARY:Anfängerkurs
DESCRIPTION:
URL:https://inline-bargteheide.de/kalender/anfaengerkurs-8/
LOCATION:DBS-Halle\, Am Schulzentrum\, Bargteheide\, 22941\, Deutschland
CATEGORIES:Training
ORGANIZER;CN="TSV Bargteheide/Abt. Inline":MAILTO:kontakt@inline-bargteheide.de
END:VEVENT
BEGIN:VEVENT
DTSTART;TZID=Europe/Berlin:20250509T191500
DTEND;TZID=Europe/Berlin:20250509T201500
DTSTAMP:20260423T022009
CREATED:20250329T150422Z
LAST-MODIFIED:20250329T150424Z
UID:2524-1746818100-1746821700@inline-bargteheide.de
SUMMARY:Spiel u. Spaß
DESCRIPTION:
URL:https://inline-bargteheide.de/kalender/spiel-u-spass-9/
LOCATION:DBS-Halle\, Am Schulzentrum\, Bargteheide\, 22941\, Deutschland
CATEGORIES:Training
ORGANIZER;CN="TSV Bargteheide/Abt. Inline":MAILTO:kontakt@inline-bargteheide.de
END:VEVENT
BEGIN:VEVENT
DTSTART;TZID=Europe/Berlin:20250509T201500
DTEND;TZID=Europe/Berlin:20250509T220000
DTSTAMP:20260423T022009
CREATED:20250329T150504Z
LAST-MODIFIED:20250329T150633Z
UID:2526-1746821700-1746828000@inline-bargteheide.de
SUMMARY:Speedies u. Race-Team
DESCRIPTION:
URL:https://inline-bargteheide.de/kalender/speedies-u-race-team-copy-3/
LOCATION:DBS-Halle\, Am Schulzentrum\, Bargteheide\, 22941\, Deutschland
CATEGORIES:Training
ORGANIZER;CN="TSV Bargteheide/Abt. Inline":MAILTO:kontakt@inline-bargteheide.de
END:VEVENT
BEGIN:VEVENT
DTSTART;TZID=Europe/Berlin:20250510T090000
DTEND;TZID=Europe/Berlin:20250510T100000
DTSTAMP:20260423T022009
CREATED:20250329T150321Z
LAST-MODIFIED:20250329T150322Z
UID:2522-1746867600-1746871200@inline-bargteheide.de
SUMMARY:Anfängerkurs
DESCRIPTION:
URL:https://inline-bargteheide.de/kalender/anfaengerkurs-9/
LOCATION:DBS-Halle\, Am Schulzentrum\, Bargteheide\, 22941\, Deutschland
CATEGORIES:Training
ORGANIZER;CN="TSV Bargteheide/Abt. Inline":MAILTO:kontakt@inline-bargteheide.de
END:VEVENT
BEGIN:VEVENT
DTSTART;TZID=Europe/Berlin:20250516T191500
DTEND;TZID=Europe/Berlin:20250516T201500
DTSTAMP:20260423T022009
CREATED:20250329T150731Z
LAST-MODIFIED:20250329T150733Z
UID:2531-1747422900-1747426500@inline-bargteheide.de
SUMMARY:Spiel u. Spaß
DESCRIPTION:
URL:https://inline-bargteheide.de/kalender/spiel-u-spass-38/
LOCATION:DBS-Halle\, Am Schulzentrum\, Bargteheide\, 22941\, Deutschland
CATEGORIES:Training
ORGANIZER;CN="TSV Bargteheide/Abt. Inline":MAILTO:kontakt@inline-bargteheide.de
END:VEVENT
BEGIN:VEVENT
DTSTART;TZID=Europe/Berlin:20250516T201500
DTEND;TZID=Europe/Berlin:20250516T220000
DTSTAMP:20260423T022009
CREATED:20250329T150820Z
LAST-MODIFIED:20250329T150822Z
UID:2533-1747426500-1747432800@inline-bargteheide.de
SUMMARY:Speedies u. Race-Team
DESCRIPTION:
URL:https://inline-bargteheide.de/kalender/speedies-u-race-team-10/
LOCATION:DBS-Halle\, Am Schulzentrum\, Bargteheide\, 22941\, Deutschland
CATEGORIES:Training
ORGANIZER;CN="TSV Bargteheide/Abt. Inline":MAILTO:kontakt@inline-bargteheide.de
END:VEVENT
BEGIN:VEVENT
DTSTART;TZID=Europe/Berlin:20250517T090000
DTEND;TZID=Europe/Berlin:20250517T100000
DTSTAMP:20260423T022009
CREATED:20250329T150555Z
LAST-MODIFIED:20250329T150557Z
UID:2528-1747472400-1747476000@inline-bargteheide.de
SUMMARY:Anfängerkurs
DESCRIPTION:
URL:https://inline-bargteheide.de/kalender/anfaengerkurs-33/
LOCATION:DBS-Halle\, Am Schulzentrum\, Bargteheide\, 22941\, Deutschland
CATEGORIES:Training
ORGANIZER;CN="TSV Bargteheide/Abt. Inline":MAILTO:kontakt@inline-bargteheide.de
END:VEVENT
BEGIN:VEVENT
DTSTART;TZID=Europe/Berlin:20250523T191500
DTEND;TZID=Europe/Berlin:20250523T201500
DTSTAMP:20260423T022009
CREATED:20250329T151129Z
LAST-MODIFIED:20250329T151131Z
UID:2539-1748027700-1748031300@inline-bargteheide.de
SUMMARY:Spiel u. Spaß
DESCRIPTION:
URL:https://inline-bargteheide.de/kalender/spiel-u-spass-39/
LOCATION:DBS-Halle\, Am Schulzentrum\, Bargteheide\, 22941\, Deutschland
CATEGORIES:Training
ORGANIZER;CN="TSV Bargteheide/Abt. Inline":MAILTO:kontakt@inline-bargteheide.de
END:VEVENT
BEGIN:VEVENT
DTSTART;TZID=Europe/Berlin:20250523T201500
DTEND;TZID=Europe/Berlin:20250523T220000
DTSTAMP:20260423T022009
CREATED:20250329T151039Z
LAST-MODIFIED:20250329T151041Z
UID:2537-1748031300-1748037600@inline-bargteheide.de
SUMMARY:Speedies u. Race-Team
DESCRIPTION:
URL:https://inline-bargteheide.de/kalender/speedies-u-race-team-36/
LOCATION:DBS-Halle\, Am Schulzentrum\, Bargteheide\, 22941\, Deutschland
CATEGORIES:Training
ORGANIZER;CN="TSV Bargteheide/Abt. Inline":MAILTO:kontakt@inline-bargteheide.de
END:VEVENT
BEGIN:VEVENT
DTSTART;TZID=Europe/Berlin:20250524T090000
DTEND;TZID=Europe/Berlin:20250524T100000
DTSTAMP:20260423T022009
CREATED:20250329T150929Z
LAST-MODIFIED:20250329T150931Z
UID:2535-1748077200-1748080800@inline-bargteheide.de
SUMMARY:Anfängerkurs
DESCRIPTION:
URL:https://inline-bargteheide.de/kalender/anfaengerkurs-34/
LOCATION:DBS-Halle\, Am Schulzentrum\, Bargteheide\, 22941\, Deutschland
CATEGORIES:Training
ORGANIZER;CN="TSV Bargteheide/Abt. Inline":MAILTO:kontakt@inline-bargteheide.de
END:VEVENT
BEGIN:VEVENT
DTSTART;TZID=Europe/Berlin:20250530T193000
DTEND;TZID=Europe/Berlin:20250530T220000
DTSTAMP:20260423T022009
CREATED:20250329T151305Z
LAST-MODIFIED:20250525T085421Z
UID:2543-1748633400-1748642400@inline-bargteheide.de
SUMMARY:Speedies u. Race-Team (Sondertraining)
DESCRIPTION:
URL:https://inline-bargteheide.de/kalender/speedies-u-race-team-37/
LOCATION:DBS-Halle\, Am Schulzentrum\, Bargteheide\, 22941\, Deutschland
CATEGORIES:Training
ORGANIZER;CN="TSV Bargteheide/Abt. Inline":MAILTO:kontakt@inline-bargteheide.de
END:VEVENT
BEGIN:VEVENT
DTSTART;TZID=Europe/Berlin:20250531T090000
DTEND;TZID=Europe/Berlin:20250531T100000
DTSTAMP:20260423T022009
CREATED:20250329T151215Z
LAST-MODIFIED:20250329T151217Z
UID:2541-1748682000-1748685600@inline-bargteheide.de
SUMMARY:Anfängerkurs
DESCRIPTION:
URL:https://inline-bargteheide.de/kalender/anfaengerkurs-35/
LOCATION:DBS-Halle\, Am Schulzentrum\, Bargteheide\, 22941\, Deutschland
CATEGORIES:Training
ORGANIZER;CN="TSV Bargteheide/Abt. Inline":MAILTO:kontakt@inline-bargteheide.de
END:VEVENT
END:VCALENDAR