BEGIN:VCALENDAR
VERSION:2.0
PRODID:-//Wilde Hummeln - ECPv6.15.20//NONSGML v1.0//EN
CALSCALE:GREGORIAN
METHOD:PUBLISH
X-ORIGINAL-URL:https://inline-bargteheide.de
X-WR-CALDESC:Veranstaltungen für Wilde Hummeln
REFRESH-INTERVAL;VALUE=DURATION:PT1H
X-Robots-Tag:noindex
X-PUBLISHED-TTL:PT1H
BEGIN:VTIMEZONE
TZID:Europe/Berlin
BEGIN:DAYLIGHT
TZOFFSETFROM:+0100
TZOFFSETTO:+0200
TZNAME:CEST
DTSTART:20240331T010000
END:DAYLIGHT
BEGIN:STANDARD
TZOFFSETFROM:+0200
TZOFFSETTO:+0100
TZNAME:CET
DTSTART:20241027T010000
END:STANDARD
BEGIN:DAYLIGHT
TZOFFSETFROM:+0100
TZOFFSETTO:+0200
TZNAME:CEST
DTSTART:20250330T010000
END:DAYLIGHT
BEGIN:STANDARD
TZOFFSETFROM:+0200
TZOFFSETTO:+0100
TZNAME:CET
DTSTART:20251026T010000
END:STANDARD
BEGIN:DAYLIGHT
TZOFFSETFROM:+0100
TZOFFSETTO:+0200
TZNAME:CEST
DTSTART:20260329T010000
END:DAYLIGHT
BEGIN:STANDARD
TZOFFSETFROM:+0200
TZOFFSETTO:+0100
TZNAME:CET
DTSTART:20261025T010000
END:STANDARD
BEGIN:DAYLIGHT
TZOFFSETFROM:+0100
TZOFFSETTO:+0200
TZNAME:CEST
DTSTART:20270328T010000
END:DAYLIGHT
BEGIN:STANDARD
TZOFFSETFROM:+0200
TZOFFSETTO:+0100
TZNAME:CET
DTSTART:20271031T010000
END:STANDARD
END:VTIMEZONE
BEGIN:VEVENT
DTSTART;TZID=Europe/Berlin:20260417T201500
DTEND;TZID=Europe/Berlin:20260417T220000
DTSTAMP:20260419T200915
CREATED:20260118T140237Z
LAST-MODIFIED:20260118T140241Z
UID:2965-1776456900-1776463200@inline-bargteheide.de
SUMMARY:Speedies u. Race-Team
DESCRIPTION:
URL:https://inline-bargteheide.de/kalender/speedies-u-race-team-12/
LOCATION:DBS-Halle\, Am Schulzentrum\, Bargteheide\, 22941\, Deutschland
CATEGORIES:Training
ORGANIZER;CN="TSV Bargteheide/Abt. Inline":MAILTO:kontakt@inline-bargteheide.de
END:VEVENT
BEGIN:VEVENT
DTSTART;TZID=Europe/Berlin:20260417T191500
DTEND;TZID=Europe/Berlin:20260417T201500
DTSTAMP:20260419T200915
CREATED:20260118T140342Z
LAST-MODIFIED:20260118T140345Z
UID:2967-1776453300-1776456900@inline-bargteheide.de
SUMMARY:Spiel u. Spaß
DESCRIPTION:
URL:https://inline-bargteheide.de/kalender/spiel-u-spass-12/
LOCATION:DBS-Halle\, Am Schulzentrum\, Bargteheide\, 22941\, Deutschland
CATEGORIES:Training
ORGANIZER;CN="TSV Bargteheide/Abt. Inline":MAILTO:kontakt@inline-bargteheide.de
END:VEVENT
BEGIN:VEVENT
DTSTART;TZID=Europe/Berlin:20260326T000000
DTEND;TZID=Europe/Berlin:20260410T235959
DTSTAMP:20260419T200915
CREATED:20260101T145245Z
LAST-MODIFIED:20260101T145248Z
UID:2916-1774483200-1775865599@inline-bargteheide.de
SUMMARY:Osterferien
DESCRIPTION:
URL:https://inline-bargteheide.de/kalender/osterferien/
CATEGORIES:Ferien
END:VEVENT
BEGIN:VEVENT
DTSTART;TZID=Europe/Berlin:20260320T201500
DTEND;TZID=Europe/Berlin:20260320T220000
DTSTAMP:20260419T200915
CREATED:20260118T140036Z
LAST-MODIFIED:20260118T140038Z
UID:2961-1774037700-1774044000@inline-bargteheide.de
SUMMARY:Speedies u. Race-Team
DESCRIPTION:
URL:https://inline-bargteheide.de/kalender/speedies-u-race-team-11/
LOCATION:DBS-Halle\, Am Schulzentrum\, Bargteheide\, 22941\, Deutschland
CATEGORIES:Training
ORGANIZER;CN="TSV Bargteheide/Abt. Inline":MAILTO:kontakt@inline-bargteheide.de
END:VEVENT
BEGIN:VEVENT
DTSTART;TZID=Europe/Berlin:20260320T191500
DTEND;TZID=Europe/Berlin:20260320T201500
DTSTAMP:20260419T200915
CREATED:20260118T140133Z
LAST-MODIFIED:20260118T140135Z
UID:2963-1774034100-1774037700@inline-bargteheide.de
SUMMARY:Spiel u. Spaß
DESCRIPTION:
URL:https://inline-bargteheide.de/kalender/spiel-u-spass-11/
LOCATION:DBS-Halle\, Am Schulzentrum\, Bargteheide\, 22941\, Deutschland
CATEGORIES:Training
ORGANIZER;CN="TSV Bargteheide/Abt. Inline":MAILTO:kontakt@inline-bargteheide.de
END:VEVENT
BEGIN:VEVENT
DTSTART;TZID=Europe/Berlin:20260313T201500
DTEND;TZID=Europe/Berlin:20260313T220000
DTSTAMP:20260419T200915
CREATED:20260118T135855Z
LAST-MODIFIED:20260118T135858Z
UID:2957-1773432900-1773439200@inline-bargteheide.de
SUMMARY:Speedies u. Race-Team
DESCRIPTION:
URL:https://inline-bargteheide.de/kalender/speedies-u-race-team-8/
LOCATION:DBS-Halle\, Am Schulzentrum\, Bargteheide\, 22941\, Deutschland
CATEGORIES:Training
ORGANIZER;CN="TSV Bargteheide/Abt. Inline":MAILTO:kontakt@inline-bargteheide.de
END:VEVENT
BEGIN:VEVENT
DTSTART;TZID=Europe/Berlin:20260313T191500
DTEND;TZID=Europe/Berlin:20260313T201500
DTSTAMP:20260419T200915
CREATED:20260118T135947Z
LAST-MODIFIED:20260118T135949Z
UID:2959-1773429300-1773432900@inline-bargteheide.de
SUMMARY:Spiel u. Spaß
DESCRIPTION:
URL:https://inline-bargteheide.de/kalender/spiel-u-spass-10/
LOCATION:DBS-Halle\, Am Schulzentrum\, Bargteheide\, 22941\, Deutschland
CATEGORIES:Training
ORGANIZER;CN="TSV Bargteheide/Abt. Inline":MAILTO:kontakt@inline-bargteheide.de
END:VEVENT
BEGIN:VEVENT
DTSTART;TZID=Europe/Berlin:20260306T201500
DTEND;TZID=Europe/Berlin:20260306T220000
DTSTAMP:20260419T200915
CREATED:20260118T135651Z
LAST-MODIFIED:20260118T135653Z
UID:2953-1772828100-1772834400@inline-bargteheide.de
SUMMARY:Speedies u. Race-Team
DESCRIPTION:
URL:https://inline-bargteheide.de/kalender/speedies-u-race-team-7/
LOCATION:DBS-Halle\, Am Schulzentrum\, Bargteheide\, 22941\, Deutschland
CATEGORIES:Training
ORGANIZER;CN="TSV Bargteheide/Abt. Inline":MAILTO:kontakt@inline-bargteheide.de
END:VEVENT
BEGIN:VEVENT
DTSTART;TZID=Europe/Berlin:20260306T191500
DTEND;TZID=Europe/Berlin:20260306T201500
DTSTAMP:20260419T200915
CREATED:20260118T135750Z
LAST-MODIFIED:20260118T135753Z
UID:2955-1772824500-1772828100@inline-bargteheide.de
SUMMARY:Spiel u. Spaß
DESCRIPTION:
URL:https://inline-bargteheide.de/kalender/spiel-u-spass-7/
LOCATION:DBS-Halle\, Am Schulzentrum\, Bargteheide\, 22941\, Deutschland
CATEGORIES:Training
ORGANIZER;CN="TSV Bargteheide/Abt. Inline":MAILTO:kontakt@inline-bargteheide.de
END:VEVENT
BEGIN:VEVENT
DTSTART;TZID=Europe/Berlin:20260227T201500
DTEND;TZID=Europe/Berlin:20260227T220000
DTSTAMP:20260419T200915
CREATED:20260118T135344Z
LAST-MODIFIED:20260118T135353Z
UID:2949-1772223300-1772229600@inline-bargteheide.de
SUMMARY:Speedies u. Race-Team
DESCRIPTION:
URL:https://inline-bargteheide.de/kalender/speedies-u-race-team-6/
LOCATION:DBS-Halle\, Am Schulzentrum\, Bargteheide\, 22941\, Deutschland
CATEGORIES:Training
ORGANIZER;CN="TSV Bargteheide/Abt. Inline":MAILTO:kontakt@inline-bargteheide.de
END:VEVENT
BEGIN:VEVENT
DTSTART;TZID=Europe/Berlin:20260227T191500
DTEND;TZID=Europe/Berlin:20260227T201500
DTSTAMP:20260419T200916
CREATED:20260118T135601Z
LAST-MODIFIED:20260118T135604Z
UID:2951-1772219700-1772223300@inline-bargteheide.de
SUMMARY:Spiel u. Spaß
DESCRIPTION:
URL:https://inline-bargteheide.de/kalender/spiel-u-spass-6/
LOCATION:DBS-Halle\, Am Schulzentrum\, Bargteheide\, 22941\, Deutschland
CATEGORIES:Training
ORGANIZER;CN="TSV Bargteheide/Abt. Inline":MAILTO:kontakt@inline-bargteheide.de
END:VEVENT
BEGIN:VEVENT
DTSTART;TZID=Europe/Berlin:20260220T201500
DTEND;TZID=Europe/Berlin:20260220T220000
DTSTAMP:20260419T200916
CREATED:20260118T135150Z
LAST-MODIFIED:20260118T135152Z
UID:2945-1771618500-1771624800@inline-bargteheide.de
SUMMARY:Speedies u. Race-Team
DESCRIPTION:
URL:https://inline-bargteheide.de/kalender/speedies-u-race-team-5/
LOCATION:DBS-Halle\, Am Schulzentrum\, Bargteheide\, 22941\, Deutschland
CATEGORIES:Training
ORGANIZER;CN="TSV Bargteheide/Abt. Inline":MAILTO:kontakt@inline-bargteheide.de
END:VEVENT
BEGIN:VEVENT
DTSTART;TZID=Europe/Berlin:20260220T191500
DTEND;TZID=Europe/Berlin:20260220T201500
DTSTAMP:20260419T200916
CREATED:20260118T135245Z
LAST-MODIFIED:20260118T135248Z
UID:2947-1771614900-1771618500@inline-bargteheide.de
SUMMARY:Spiel u. Spaß
DESCRIPTION:
URL:https://inline-bargteheide.de/kalender/spiel-u-spass-5/
LOCATION:DBS-Halle\, Am Schulzentrum\, Bargteheide\, 22941\, Deutschland
CATEGORIES:Training
ORGANIZER;CN="TSV Bargteheide/Abt. Inline":MAILTO:kontakt@inline-bargteheide.de
END:VEVENT
BEGIN:VEVENT
DTSTART;TZID=Europe/Berlin:20260206T201500
DTEND;TZID=Europe/Berlin:20260206T220000
DTSTAMP:20260419T200916
CREATED:20260118T134820Z
LAST-MODIFIED:20260118T134823Z
UID:2937-1770408900-1770415200@inline-bargteheide.de
SUMMARY:Speedies u. Race-Team
DESCRIPTION:
URL:https://inline-bargteheide.de/kalender/speedies-u-race-team-3/
LOCATION:DBS-Halle\, Am Schulzentrum\, Bargteheide\, 22941\, Deutschland
CATEGORIES:Training
ORGANIZER;CN="TSV Bargteheide/Abt. Inline":MAILTO:kontakt@inline-bargteheide.de
END:VEVENT
BEGIN:VEVENT
DTSTART;TZID=Europe/Berlin:20260206T191500
DTEND;TZID=Europe/Berlin:20260206T201500
DTSTAMP:20260419T200916
CREATED:20260118T134916Z
LAST-MODIFIED:20260118T134918Z
UID:2939-1770405300-1770408900@inline-bargteheide.de
SUMMARY:Spiel u. Spaß
DESCRIPTION:
URL:https://inline-bargteheide.de/kalender/spiel-u-spass-3/
LOCATION:DBS-Halle\, Am Schulzentrum\, Bargteheide\, 22941\, Deutschland
CATEGORIES:Training
ORGANIZER;CN="TSV Bargteheide/Abt. Inline":MAILTO:kontakt@inline-bargteheide.de
END:VEVENT
BEGIN:VEVENT
DTSTART;TZID=Europe/Berlin:20260202T000000
DTEND;TZID=Europe/Berlin:20260203T235959
DTSTAMP:20260419T200916
CREATED:20260101T145509Z
LAST-MODIFIED:20260101T145513Z
UID:2918-1769990400-1770163199@inline-bargteheide.de
SUMMARY:Bewegliche Ferientage
DESCRIPTION:
URL:https://inline-bargteheide.de/kalender/bewegliche-ferientage/
CATEGORIES:Ferien
END:VEVENT
BEGIN:VEVENT
DTSTART;TZID=Europe/Berlin:20260130T201500
DTEND;TZID=Europe/Berlin:20260130T220000
DTSTAMP:20260419T200916
CREATED:20260118T134717Z
LAST-MODIFIED:20260118T134719Z
UID:2935-1769804100-1769810400@inline-bargteheide.de
SUMMARY:Speedies u. Race-Team
DESCRIPTION:
URL:https://inline-bargteheide.de/kalender/speedies-u-race-team-2/
LOCATION:DBS-Halle\, Am Schulzentrum\, Bargteheide\, 22941\, Deutschland
CATEGORIES:Training
ORGANIZER;CN="TSV Bargteheide/Abt. Inline":MAILTO:kontakt@inline-bargteheide.de
END:VEVENT
BEGIN:VEVENT
DTSTART;TZID=Europe/Berlin:20260130T191500
DTEND;TZID=Europe/Berlin:20260130T201500
DTSTAMP:20260419T200916
CREATED:20260118T134605Z
LAST-MODIFIED:20260118T134607Z
UID:2933-1769800500-1769804100@inline-bargteheide.de
SUMMARY:Spiel u. Spaß
DESCRIPTION:
URL:https://inline-bargteheide.de/kalender/spiel-u-spass-2/
LOCATION:DBS-Halle\, Am Schulzentrum\, Bargteheide\, 22941\, Deutschland
CATEGORIES:Training
ORGANIZER;CN="TSV Bargteheide/Abt. Inline":MAILTO:kontakt@inline-bargteheide.de
END:VEVENT
BEGIN:VEVENT
DTSTART;TZID=Europe/Berlin:20260123T201500
DTEND;TZID=Europe/Berlin:20260123T220000
DTSTAMP:20260419T200916
CREATED:20260101T150113Z
LAST-MODIFIED:20260101T150350Z
UID:2924-1769199300-1769205600@inline-bargteheide.de
SUMMARY:Speedies u. Race-Team
DESCRIPTION:
URL:https://inline-bargteheide.de/kalender/speedies-u-race-team/
LOCATION:DBS-Halle\, Am Schulzentrum\, Bargteheide\, 22941\, Deutschland
CATEGORIES:Training
ORGANIZER;CN="TSV Bargteheide/Abt. Inline":MAILTO:kontakt@inline-bargteheide.de
END:VEVENT
BEGIN:VEVENT
DTSTART;TZID=Europe/Berlin:20260123T191500
DTEND;TZID=Europe/Berlin:20260123T201500
DTSTAMP:20260419T200916
CREATED:20260101T150227Z
LAST-MODIFIED:20260101T150310Z
UID:2926-1769195700-1769199300@inline-bargteheide.de
SUMMARY:Spiel u. Spaß
DESCRIPTION:
URL:https://inline-bargteheide.de/kalender/spiel-u-spass/
LOCATION:DBS-Halle\, Am Schulzentrum\, Bargteheide\, 22941\, Deutschland
CATEGORIES:Training
ORGANIZER;CN="TSV Bargteheide/Abt. Inline":MAILTO:kontakt@inline-bargteheide.de
END:VEVENT
BEGIN:VEVENT
DTSTART;TZID=Europe/Berlin:20251219T000000
DTEND;TZID=Europe/Berlin:20260106T235959
DTSTAMP:20260419T200916
CREATED:20241227T152142Z
LAST-MODIFIED:20241227T152143Z
UID:2400-1766102400-1767743999@inline-bargteheide.de
SUMMARY:Weihnachtsferien
DESCRIPTION:Frohe Weihnachten!
URL:https://inline-bargteheide.de/kalender/weihnachtsferien-2/
CATEGORIES:Ferien
END:VEVENT
BEGIN:VEVENT
DTSTART;TZID=Europe/Berlin:20251213T090000
DTEND;TZID=Europe/Berlin:20251213T100000
DTSTAMP:20260419T200916
CREATED:20250803T134943Z
LAST-MODIFIED:20250803T135026Z
UID:2760-1765616400-1765620000@inline-bargteheide.de
SUMMARY:Anfängerkurs
DESCRIPTION:
URL:https://inline-bargteheide.de/kalender/anfaengerkurs-42-copy-copy-copy-copy-copy-copy-copy-copy-copy-copy-copy-copy/
LOCATION:DBS-Halle\, Am Schulzentrum\, Bargteheide\, 22941\, Deutschland
CATEGORIES:Training
ORGANIZER;CN="TSV Bargteheide/Abt. Inline":MAILTO:kontakt@inline-bargteheide.de
END:VEVENT
BEGIN:VEVENT
DTSTART;TZID=Europe/Berlin:20251212T201500
DTEND;TZID=Europe/Berlin:20251212T220000
DTSTAMP:20260419T200916
CREATED:20250803T144412Z
LAST-MODIFIED:20250803T144550Z
UID:2808-1765570500-1765576800@inline-bargteheide.de
SUMMARY:Speedies u. Race-Team
DESCRIPTION:
URL:https://inline-bargteheide.de/kalender/speedies-u-race-team-45-copy-2-copy-copy-2-copy-copy-copy-copy-copy-copy-copy-copy/
LOCATION:DBS-Halle\, Am Schulzentrum\, Bargteheide\, 22941\, Deutschland
CATEGORIES:Training
ORGANIZER;CN="TSV Bargteheide/Abt. Inline":MAILTO:kontakt@inline-bargteheide.de
END:VEVENT
BEGIN:VEVENT
DTSTART;TZID=Europe/Berlin:20251212T191500
DTEND;TZID=Europe/Berlin:20251212T201500
DTSTAMP:20260419T200916
CREATED:20250803T141637Z
LAST-MODIFIED:20250803T141815Z
UID:2784-1765566900-1765570500@inline-bargteheide.de
SUMMARY:Spiel u. Spaß
DESCRIPTION:
URL:https://inline-bargteheide.de/kalender/spiel-u-spass-47-copy-copy-copy-copy-copy-copy-copy-copy-copy-copy-copy-copy/
LOCATION:DBS-Halle\, Am Schulzentrum\, Bargteheide\, 22941\, Deutschland
CATEGORIES:Training
ORGANIZER;CN="TSV Bargteheide/Abt. Inline":MAILTO:kontakt@inline-bargteheide.de
END:VEVENT
BEGIN:VEVENT
DTSTART;TZID=Europe/Berlin:20251206T090000
DTEND;TZID=Europe/Berlin:20251206T100000
DTSTAMP:20260419T200916
CREATED:20250803T134828Z
LAST-MODIFIED:20250803T134908Z
UID:2758-1765011600-1765015200@inline-bargteheide.de
SUMMARY:Anfängerkurs
DESCRIPTION:
URL:https://inline-bargteheide.de/kalender/anfaengerkurs-42-copy-copy-copy-copy-copy-copy-copy-copy-copy-copy-copy/
LOCATION:DBS-Halle\, Am Schulzentrum\, Bargteheide\, 22941\, Deutschland
CATEGORIES:Training
ORGANIZER;CN="TSV Bargteheide/Abt. Inline":MAILTO:kontakt@inline-bargteheide.de
END:VEVENT
BEGIN:VEVENT
DTSTART;TZID=Europe/Berlin:20251205T201500
DTEND;TZID=Europe/Berlin:20251205T220000
DTSTAMP:20260419T200916
CREATED:20250803T144215Z
LAST-MODIFIED:20250803T144312Z
UID:2806-1764965700-1764972000@inline-bargteheide.de
SUMMARY:Speedies u. Race-Team
DESCRIPTION:
URL:https://inline-bargteheide.de/kalender/speedies-u-race-team-45-copy-2-copy-copy-2-copy-copy-copy-copy-copy-copy-copy/
LOCATION:DBS-Halle\, Am Schulzentrum\, Bargteheide\, 22941\, Deutschland
CATEGORIES:Training
ORGANIZER;CN="TSV Bargteheide/Abt. Inline":MAILTO:kontakt@inline-bargteheide.de
END:VEVENT
BEGIN:VEVENT
DTSTART;TZID=Europe/Berlin:20251205T191500
DTEND;TZID=Europe/Berlin:20251205T201500
DTSTAMP:20260419T200916
CREATED:20250803T141439Z
LAST-MODIFIED:20250803T141536Z
UID:2782-1764962100-1764965700@inline-bargteheide.de
SUMMARY:Spiel u. Spaß
DESCRIPTION:
URL:https://inline-bargteheide.de/kalender/spiel-u-spass-47-copy-copy-copy-copy-copy-copy-copy-copy-copy-copy-copy/
LOCATION:DBS-Halle\, Am Schulzentrum\, Bargteheide\, 22941\, Deutschland
CATEGORIES:Training
ORGANIZER;CN="TSV Bargteheide/Abt. Inline":MAILTO:kontakt@inline-bargteheide.de
END:VEVENT
BEGIN:VEVENT
DTSTART;TZID=Europe/Berlin:20251129T090000
DTEND;TZID=Europe/Berlin:20251129T100000
DTSTAMP:20260419T200916
CREATED:20250803T134713Z
LAST-MODIFIED:20250803T134803Z
UID:2756-1764406800-1764410400@inline-bargteheide.de
SUMMARY:Anfängerkurs
DESCRIPTION:
URL:https://inline-bargteheide.de/kalender/anfaengerkurs-42-copy-copy-copy-copy-copy-copy-copy-copy-copy-copy/
LOCATION:DBS-Halle\, Am Schulzentrum\, Bargteheide\, 22941\, Deutschland
CATEGORIES:Training
ORGANIZER;CN="TSV Bargteheide/Abt. Inline":MAILTO:kontakt@inline-bargteheide.de
END:VEVENT
BEGIN:VEVENT
DTSTART;TZID=Europe/Berlin:20251128T201500
DTEND;TZID=Europe/Berlin:20251128T220000
DTSTAMP:20260419T200916
CREATED:20250803T143821Z
LAST-MODIFIED:20250803T143916Z
UID:2804-1764360900-1764367200@inline-bargteheide.de
SUMMARY:Speedies u. Race-Team
DESCRIPTION:
URL:https://inline-bargteheide.de/kalender/speedies-u-race-team-45-copy-2-copy-copy-2-copy-copy-copy-copy-copy-copy/
LOCATION:DBS-Halle\, Am Schulzentrum\, Bargteheide\, 22941\, Deutschland
CATEGORIES:Training
ORGANIZER;CN="TSV Bargteheide/Abt. Inline":MAILTO:kontakt@inline-bargteheide.de
END:VEVENT
BEGIN:VEVENT
DTSTART;TZID=Europe/Berlin:20251128T191500
DTEND;TZID=Europe/Berlin:20251128T201500
DTSTAMP:20260419T200916
CREATED:20250803T141219Z
LAST-MODIFIED:20250803T141306Z
UID:2780-1764357300-1764360900@inline-bargteheide.de
SUMMARY:Spiel u. Spaß
DESCRIPTION:
URL:https://inline-bargteheide.de/kalender/spiel-u-spass-47-copy-copy-copy-copy-copy-copy-copy-copy-copy-copy/
LOCATION:DBS-Halle\, Am Schulzentrum\, Bargteheide\, 22941\, Deutschland
CATEGORIES:Training
ORGANIZER;CN="TSV Bargteheide/Abt. Inline":MAILTO:kontakt@inline-bargteheide.de
END:VEVENT
END:VCALENDAR