BEGIN:VCALENDAR
VERSION:2.0
PRODID:-//Wilde Hummeln - ECPv6.15.20//NONSGML v1.0//EN
CALSCALE:GREGORIAN
METHOD:PUBLISH
X-WR-CALNAME:Wilde Hummeln
X-ORIGINAL-URL:https://inline-bargteheide.de
X-WR-CALDESC:Veranstaltungen für Wilde Hummeln
REFRESH-INTERVAL;VALUE=DURATION:PT1H
X-Robots-Tag:noindex
X-PUBLISHED-TTL:PT1H
BEGIN:VTIMEZONE
TZID:Europe/Berlin
BEGIN:DAYLIGHT
TZOFFSETFROM:+0100
TZOFFSETTO:+0200
TZNAME:CEST
DTSTART:20240331T010000
END:DAYLIGHT
BEGIN:STANDARD
TZOFFSETFROM:+0200
TZOFFSETTO:+0100
TZNAME:CET
DTSTART:20241027T010000
END:STANDARD
BEGIN:DAYLIGHT
TZOFFSETFROM:+0100
TZOFFSETTO:+0200
TZNAME:CEST
DTSTART:20250330T010000
END:DAYLIGHT
BEGIN:STANDARD
TZOFFSETFROM:+0200
TZOFFSETTO:+0100
TZNAME:CET
DTSTART:20251026T010000
END:STANDARD
BEGIN:DAYLIGHT
TZOFFSETFROM:+0100
TZOFFSETTO:+0200
TZNAME:CEST
DTSTART:20260329T010000
END:DAYLIGHT
BEGIN:STANDARD
TZOFFSETFROM:+0200
TZOFFSETTO:+0100
TZNAME:CET
DTSTART:20261025T010000
END:STANDARD
END:VTIMEZONE
BEGIN:VEVENT
DTSTART;TZID=Europe/Berlin:20250606T191500
DTEND;TZID=Europe/Berlin:20250606T201500
DTSTAMP:20260423T003116
CREATED:20250329T151641Z
LAST-MODIFIED:20250329T151643Z
UID:2551-1749237300-1749240900@inline-bargteheide.de
SUMMARY:Spiel u. Spaß
DESCRIPTION:
URL:https://inline-bargteheide.de/kalender/spiel-u-spass-41/
LOCATION:DBS-Halle\, Am Schulzentrum\, Bargteheide\, 22941\, Deutschland
CATEGORIES:Training
ORGANIZER;CN="TSV Bargteheide/Abt. Inline":MAILTO:kontakt@inline-bargteheide.de
END:VEVENT
BEGIN:VEVENT
DTSTART;TZID=Europe/Berlin:20250606T201500
DTEND;TZID=Europe/Berlin:20250606T220000
DTSTAMP:20260423T003116
CREATED:20250329T151549Z
LAST-MODIFIED:20250329T151551Z
UID:2549-1749240900-1749247200@inline-bargteheide.de
SUMMARY:Speedies u. Race-Team
DESCRIPTION:
URL:https://inline-bargteheide.de/kalender/speedies-u-race-team-38/
LOCATION:DBS-Halle\, Am Schulzentrum\, Bargteheide\, 22941\, Deutschland
CATEGORIES:Training
ORGANIZER;CN="TSV Bargteheide/Abt. Inline":MAILTO:kontakt@inline-bargteheide.de
END:VEVENT
END:VCALENDAR